Workbook
Name lisyup: [1]辞書!$B$11:$J$225
Name ppp: [2]辞書!$B$11:$J$225
Name sss: [3]辞書!$B$11:$J$225
Name ああ: [4]辞書!$B$11:$J$225
Name オープン共催: [5]辞書!$B$11:$J$225
Name 単女: [6]辞書!$B$11:$J$225
Name 理事会第1回: [4]辞書!$B$11:$J$225

Sheet 男子
B2: 令和７年度 北海道高等学校選抜卓球大会 | I2: 令和７年度 北海道高等学校選抜卓球大会 | O2: 令和７年度 北海道高等学校選抜卓球大会
B3: 室蘭支部苫小牧ブロック予選大会参加申込書 | I3: 室蘭支部苫小牧ブロック予選大会参加申込書 | O3: 室蘭支部苫小牧ブロック予選大会参加申込書
B5: 男子学校対抗 | H5: 男子シングルス | N5: 男子ダブルス
B7: 学校名 | H7: 学校名 | I7: =C7 -> 0 | N7: 学校名 | O7: =C7 -> 0
B8: 監督名 | H8: 監督名 | I8: =C8 -> 0 | N8: 監督名 | O8: =C8 -> 0
B9: 外部指導者名 | H9: 外部指導者名 | I9: =C9 -> 0 | N9: 外部指導者名 | O9: =C9 -> 0
B10: 主将名 | H10: 主将名 | I10: =C10 -> 0 | N10: 主将名 | O10: =C10 -> 0
B11: ＮＯ | C11: 選 手 名（フルネーム） | D11: ふりがな（フルネーム） | E11: 学年 | H11: ＮＯ | I11: 選 手 名（フルネーム） | J11: ふりがな（フルネーム） | N11: ＮＯ | O11: 選 手 名（２名分の名字） | P11: ふりがな（２名分の名字）
B12: 1 | H12: 1 | N12: 1
B13: 2 | H13: 2 | N13: 2
B14: 3 | H14: 3 | N14: 3
B15: 4 | H15: 4 | N15: 4
B16: 5 | H16: 5 | N16: 5
B17: 6 | H17: 6 | N17: 6
B18: 7 | H18: 7 | N18: 7
B19: 8 | H19: 8 | N19: 8
B20: 補欠 | H20: 9 | N20: 9
B21: 補欠 | H21: 10 | N21: 10
H22: 11
H23: 12
H24: 13
H25: 14
H26: 15
H27: 16
H28: 17
H29: 18
H30: 19
H31: 20
H33: ① | I33: 各チームのランキング順で記載してください。 | N33: ① | O33: 各チームのランキング順で記載してください。
B34: ① | C34: 必ずふりがなを記載してください。 | H34: ② | I34: 必ずふりがなを記載してください。 | N34: ② | O34: 必ずふりがなを記載してください。
B35: ② | C35: 全道大会出場の意思の無い学校は参加しないでください。 | H35: ③ | I35: 全道大会出場の意思の無い選手は参加しないでください。 | N35: ③ | O35: 全道大会出場の意思の無い選手は参加しないでください。
C36: 【参加料】学校対抗１チーム 5,000円× | E36: =D36*5000 -> 0 | I36: 【参加料】シングルス１名 600円× | K36: =J36*600 -> 0 | O36: 【参加料】ダブルス１組 1,000円× | Q36: =P36*1000 -> 0
G37: =1000*D37 -> 0 | L37: =1000*H37 -> 0 | M37: =1000*I37 -> 0

Sheet 女子
B2: 令和７年度 北海道高等学校選抜卓球大会 | I2: 令和７年度 北海道高等学校選抜卓球大会 | O2: 令和７年度 北海道高等学校選抜卓球大会
B3: 室蘭支部苫小牧ブロック予選大会参加申込書 | I3: 室蘭支部苫小牧ブロック予選大会参加申込書 | O3: 室蘭支部苫小牧ブロック予選大会参加申込書
B5: 女子学校対抗 | H5: 女子シングルス | N5: 女子ダブルス
B7: 学校名 | H7: 学校名 | I7: =C7 -> 0 | N7: 学校名 | O7: =C7 -> 0
B8: 監督名 | H8: 監督名 | I8: =C8 -> 0 | N8: 監督名 | O8: =C8 -> 0
B9: 外部指導者名 | H9: 外部指導者名 | I9: =C9 -> 0 | N9: 外部指導者名 | O9: =C9 -> 0
B10: 主将名 | H10: 主将名 | I10: =C10 -> 0 | N10: 主将名 | O10: =C10 -> 0
B11: ＮＯ | C11: 選 手 名（フルネーム） | D11: ふりがな（フルネーム） | E11: 学年 | H11: ＮＯ | I11: 選 手 名（フルネーム） | J11: ふりがな（フルネーム） | N11: ＮＯ | O11: 選 手 名（２名分の名字） | P11: ふりがな（２名分の名字）
B12: 1 | H12: 1 | N12: 1
B13: 2 | H13: 2 | N13: 2
B14: 3 | H14: 3 | N14: 3
B15: 4 | H15: 4 | N15: 4
B16: 5 | H16: 5 | N16: 5
B17: 6 | H17: 6 | N17: 6
B18: 7 | H18: 7 | N18: 7
B19: 8 | H19: 8 | N19: 8
B20: 補欠 | H20: 9 | N20: 9
B21: 補欠 | H21: 10 | N21: 10
H22: 11
H23: 12
H24: 13
H25: 14
H26: 15
H27: 16
H28: 17
H29: 18
H30: 19
H31: 20
H33: ① | I33: 各チームのランキング順で記載してください。 | N33: ① | O33: 各チームのランキング順で記載してください。
B34: ① | C34: 必ずふりがなを記載してください。 | H34: ② | I34: 必ずふりがなを記載してください。 | N34: ② | O34: 必ずふりがなを記載してください。
B35: ② | C35: 全道大会出場の意思の無い学校は参加しないでください。 | H35: ③ | I35: 全道大会出場の意思の無い選手は参加しないでください。 | N35: ③ | O35: 全道大会出場の意思の無い選手は参加しないでください。
C36: 【参加料】学校対抗１チーム 5,000円× | E36: =D36*5000 -> 0 | I36: 【参加料】シングルス１名 600円× | K36: =J36*600 -> 0 | O36: 【参加料】ダブルス１組 1,000円× | Q36: =P36*1000 -> 0
G37: =1000*D37 -> 0 | L37: =1000*H37 -> 0 | M37: =1000*I37 -> 0

Sheet ここに入力しないでくださいトーナメント作成用
C1: このシートは入力しないでください。
B2: 《 男子シングルス 》 | F2: 《 女子シングルス 》
B3: 所属 | C3: =男子!C7 -> 0 | F3: 所属 | G3: =女子!C7 -> 0
C4: 選 手 名 | G4: 選 手 名
B6: 1 | C6: =男子!I12 -> 0 | F6: 1 | G6: =女子!I12 -> 0
B7: 2 | C7: =男子!I13 -> 0 | F7: 2 | G7: =女子!I13 -> 0
B8: 3 | C8: =男子!I14 -> 0 | F8: 3 | G8: =女子!I14 -> 0
B9: 4 | C9: =男子!I15 -> 0 | F9: 4 | G9: =女子!I15 -> 0
B10: 5 | C10: =男子!I16 -> 0 | F10: 5 | G10: =女子!I16 -> 0
B11: 6 | C11: =男子!I17 -> 0 | F11: 6 | G11: =女子!I17 -> 0
B12: 7 | C12: =男子!I18 -> 0 | F12: 7 | G12: =女子!I18 -> 0
B13: 8 | C13: =男子!I19 -> 0 | F13: 8 | G13: =女子!I19 -> 0
B14: 9 | C14: =男子!I20 -> 0 | F14: 9 | G14: =女子!I20 -> 0
B15: 10 | C15: =男子!I21 -> 0 | F15: 10 | G15: =女子!I21 -> 0
B16: 11 | C16: =男子!I22 -> 0 | F16: 11 | G16: =女子!I22 -> 0
B17: 12 | C17: =男子!I23 -> 0 | F17: 12 | G17: =女子!I23 -> 0
... B25: 20 | C25: =男子!I31 -> 0 | F25: 20 | G25: =女子!I31 -> 0
B28: 《 男子ダブルス 》 | F28: 《 女子ダブルス 》
C29: 選 手 名 | G29: 選 手 名
B31: 1 | C31: =男子!O12 -> 0 | F31: 1 | G31: =女子!O12 -> 0
B32: 2 | C32: =男子!O13 -> 0 | F32: 2 | G32: =女子!O13 -> 0
B33: 3 | C33: =男子!O14 -> 0 | F33: 3 | G33: =女子!O14 -> 0
B34: 4 | C34: =男子!O15 -> 0 | F34: 4 | G34: =女子!O15 -> 0
B35: 5 | C35: =男子!O16 -> 0 | F35: 5 | G35: =女子!O16 -> 0
B36: 6 | C36: =男子!O17 -> 0 | F36: 6 | G36: =女子!O17 -> 0
B37: 7 | C37: =男子!O18 -> 0 | F37: 7 | G37: =女子!O18 -> 0
B38: 8 | C38: =男子!O19 -> 0 | F38: 8 | G38: =女子!O19 -> 0
B39: 9 | C39: =男子!O20 -> 0 | F39: 9 | G39: =女子!O20 -> 0
B40: 10 | C40: =男子!O21 -> 0 | F40: 10 | G40: =女子!O21 -> 0
